BEGIN:VCALENDAR
PRODID:-//AT Content Types//AT Event//EN
VERSION:2.0
METHOD:PUBLISH
BEGIN:VEVENT
DTSTAMP:20260426T034506Z
CREATED:20230126T131728Z
UID:ATEvent-6788d3fe656949098e0782383f97994e
LAST-MODIFIED:20230126T132456Z
SUMMARY:1st LS4Future General Meeting
DTSTART:20230208T093000Z
DTEND:20230208T183000Z
DESCRIPTION:The Associate Laboratory 1st General Meeting takes place a
 t Palácio Flor da Murta
LOCATION:Palácio Flor da Murta
CATEGORIES:LS4Future, Seminar
CONTACT:Ana Gomes
CLASS:PUBLIC
END:VEVENT
END:VCALENDAR
