BEGIN:VCALENDAR
PRODID:-//AT Content Types//AT Event//EN
VERSION:2.0
METHOD:PUBLISH
BEGIN:VEVENT
DTSTAMP:20260423T125926Z
CREATED:20230619T140929Z
UID:ATEvent-e5edaed48ea64d178bca9bd4d5504daf
LAST-MODIFIED:20260330T141737Z
SUMMARY:[Course] 1st edition | CERMAX practical course on Basic NMR
DTSTART:20231008T230000Z
DTEND:20231012T230000Z
LOCATION:ITQB NOVA
CATEGORIES:Course, MOSTMICRO
CLASS:PUBLIC
END:VEVENT
END:VCALENDAR
