BEGIN:VCALENDAR
PRODID:-//AT Content Types//AT Event//EN
VERSION:2.0
METHOD:PUBLISH
BEGIN:VEVENT
DTSTAMP:20260424T200012Z
CREATED:20120511T081446Z
UID:ATEvent-7e5bf46f0f63b673c1fca42d908c303e
LAST-MODIFIED:20120511T081501Z
SUMMARY:5th CERMAX practical course on basic NMR
DTSTART:20120702T080000Z
DTEND:20120705T170000Z
LOCATION:ITQB
CLASS:PUBLIC
END:VEVENT
END:VCALENDAR
