BEGIN:VCALENDAR
PRODID:-//AT Content Types//AT Event//EN
VERSION:2.0
METHOD:PUBLISH
BEGIN:VEVENT
DTSTAMP:20260423T211946Z
CREATED:20240819T154257Z
UID:ATEvent-cebdbbe18f5446f8ad69b9adfe18bf95
LAST-MODIFIED:20260330T143421Z
SUMMARY:[Course] 2nd Edition | CERMAX practical course on Basic NMR
DTSTART:20241007T130000Z
DTEND:20241011T160000Z
LOCATION:ITQB NOVA
CLASS:PUBLIC
END:VEVENT
END:VCALENDAR
