BEGIN:VCALENDAR
PRODID:-//AT Content Types//AT Event//EN
VERSION:2.0
METHOD:PUBLISH
BEGIN:VEVENT
DTSTAMP:20260420T162157Z
CREATED:20080724T112216Z
UID:ATEvent-59d5be3b33b6fec00c7c220cb748ee1b
LAST-MODIFIED:20080725T104133Z
SUMMARY:Statistics Course
DTSTART:20081009T080000Z
DTEND:20081010T170000Z
DESCRIPTION:Internal course for ITQB/IGC/IBET researchers
LOCATION:ISEGI-UNL
CATEGORIES:Course
CLASS:PUBLIC
END:VEVENT
END:VCALENDAR
