BEGIN:VCALENDAR
PRODID:-//AT Content Types//AT Event//EN
VERSION:2.0
METHOD:PUBLISH
BEGIN:VEVENT
DTSTAMP:20260422T114044Z
CREATED:20210511T180240Z
UID:ATEvent-9eddb3704b2540098a821fbaf313cd9d
LAST-MODIFIED:20210511T180333Z
SUMMARY:MolBios PhD projects presentation
DTSTART:20210513T083000Z
DTEND:20210514T120000Z
DESCRIPTION:For two days the PhD students of the MolBios Programme wil
 l present their projects for the curricular Unit 'Research Training II
 ' at the ITQB Auditorium.
URL:https://videoconf-colibri.zoom.us/j/82626818711?pwd=ZmRkdi9TRVMxSEpLMjlWVU5TRHl4UT09 
CLASS:PUBLIC
END:VEVENT
END:VCALENDAR
