BEGIN:VCALENDAR
PRODID:-//AT Content Types//AT Event//EN
VERSION:2.0
METHOD:PUBLISH
BEGIN:VEVENT
DTSTAMP:20260424T080751Z
CREATED:20231213T101716Z
UID:ATEvent-05c4224bca9b4d01b7c8022ba840f563
LAST-MODIFIED:20231213T102157Z
SUMMARY:[SCAN] Challenging the norm: New insights into yeast arsenic detoxification
DTSTART:20231129T120000Z
DTEND:20231129T130000Z
DESCRIPTION:Sofia M. da Silva
LOCATION:ITQB NOVA Auditorium
CATEGORIES:Seminar, MOSTMICRO, SCAN
CONTACT:Sandra Viegas \, sviegas@itqb.unl.pt
CLASS:PUBLIC
END:VEVENT
END:VCALENDAR
