BEGIN:VCALENDAR
PRODID:-//AT Content Types//AT Event//EN
VERSION:2.0
METHOD:PUBLISH
BEGIN:VEVENT
DTSTAMP:20260424T052358Z
CREATED:20141128T113826Z
UID:ATEvent-fa8d507f457709bcde49074f39ba5337
LAST-MODIFIED:20180209T111208Z
SUMMARY:[SCAN]  Time travel – how tree rings contribute to the study of climate change
DTSTART:20150415T110000Z
DTEND:20150415T120000Z
DESCRIPTION:Sofia Leal\, Forest Biotechnology Lab\, ITQB
LOCATION:Auditorium
CATEGORIES:GREEN-IT
CLASS:PUBLIC
END:VEVENT
END:VCALENDAR
